BEGIN:VCALENDAR
VERSION:2.0
PRODID:-//Alleanza Cattolica - ECPv6.15.20//NONSGML v1.0//EN
CALSCALE:GREGORIAN
METHOD:PUBLISH
X-ORIGINAL-URL:https://alleanzacattolica.org
X-WR-CALDESC:Eventi per Alleanza Cattolica
REFRESH-INTERVAL;VALUE=DURATION:PT1H
X-Robots-Tag:noindex
X-PUBLISHED-TTL:PT1H
BEGIN:VTIMEZONE
TZID:Europe/Rome
BEGIN:DAYLIGHT
TZOFFSETFROM:+0100
TZOFFSETTO:+0200
TZNAME:CEST
DTSTART:20250330T010000
END:DAYLIGHT
BEGIN:STANDARD
TZOFFSETFROM:+0200
TZOFFSETTO:+0100
TZNAME:CET
DTSTART:20251026T010000
END:STANDARD
BEGIN:DAYLIGHT
TZOFFSETFROM:+0100
TZOFFSETTO:+0200
TZNAME:CEST
DTSTART:20260329T010000
END:DAYLIGHT
BEGIN:STANDARD
TZOFFSETFROM:+0200
TZOFFSETTO:+0100
TZNAME:CET
DTSTART:20261025T010000
END:STANDARD
BEGIN:DAYLIGHT
TZOFFSETFROM:+0100
TZOFFSETTO:+0200
TZNAME:CEST
DTSTART:20270328T010000
END:DAYLIGHT
BEGIN:STANDARD
TZOFFSETFROM:+0200
TZOFFSETTO:+0100
TZNAME:CET
DTSTART:20271031T010000
END:STANDARD
END:VTIMEZONE
BEGIN:VEVENT
DTSTART;TZID=Europe/Rome:20260413T170000
DTEND;TZID=Europe/Rome:20260413T190000
DTSTAMP:20260424T004832
CREATED:20260408T093440Z
LAST-MODIFIED:20260408T093440Z
UID:10002769-1776099600-1776106800@alleanzacattolica.org
SUMMARY:Pisa - Santa Messa nel quattordicesimo anniversario del riconoscimento di Alleanza Cattolica
DESCRIPTION:
URL:https://alleanzacattolica.org/evento/pisa-santa-messa-nel-quattordicesimo-anniversario-del-riconoscimento-di-alleanza-cattolica/
CATEGORIES:Messa
ATTACH;FMTTYPE=image/png:https://alleanzacattolica.org/wp-content/uploads/2026/04/Lunedi-13.png
ORGANIZER;CN="Alleanza Cattolica":MAILTO:info@alleanzacattolica.org
END:VEVENT
BEGIN:VEVENT
DTSTART;TZID=Europe/Rome:20260413T183000
DTEND;TZID=Europe/Rome:20260413T193000
DTSTAMP:20260424T004832
CREATED:20260402T093720Z
LAST-MODIFIED:20260402T093720Z
UID:10002768-1776105000-1776108600@alleanzacattolica.org
SUMMARY:Santa Messa per il 14° anniversario del riconoscimento ecclesiastico di Alleanza Cattolica
DESCRIPTION:
URL:https://alleanzacattolica.org/evento/santa-messa-per-il-14-anniversario-del-riconoscimento-ecclesiastico-di-alleanza-cattolica/
LOCATION:Istituto Missionario del Sacerdozio Regale di Cristo\, Via Pomponazzi\, 28\, Milano\, Lombardia\, 20143\, Italy
CATEGORIES:Messa
ATTACH;FMTTYPE=image/jpeg:https://alleanzacattolica.org/wp-content/uploads/2026/04/Santan-messa.jpeg
ORGANIZER;CN="Alleanza Cattolica":MAILTO:info@alleanzacattolica.org
END:VEVENT
BEGIN:VEVENT
DTSTART;TZID=Europe/Rome:20260413T190000
DTEND;TZID=Europe/Rome:20260413T200000
DTSTAMP:20260424T004832
CREATED:20260408T195421Z
LAST-MODIFIED:20260408T195421Z
UID:10002771-1776106800-1776110400@alleanzacattolica.org
SUMMARY:Lecce - SANTA MESSA
DESCRIPTION:Lunedì 13 aprile 2026 ore 19.00\nParrocchia S.Francesco d’Assisi via Ottavio Scalfo\nLecce\nSANTA MESSA\nIn occasione del 14° anniversario del riconoscimento di Alleanza Cattolica come associazione di fedeli con personalità giuridica privata.\nCelebrerà il parroco don Daniele Fazzi
URL:https://alleanzacattolica.org/evento/lecce-santa-messa/
LOCATION:Lecce – Parrocchia S. Francesco d’Assisi
CATEGORIES:Messa
ATTACH;FMTTYPE=image/jpeg:https://alleanzacattolica.org/wp-content/uploads/2026/04/AC26_S.Messa-Associazione-A4.jpg
END:VEVENT
BEGIN:VEVENT
DTSTART;TZID=Europe/Rome:20260427T183000
DTEND;TZID=Europe/Rome:20260427T200000
DTSTAMP:20260424T004832
CREATED:20260408T194627Z
LAST-MODIFIED:20260408T194627Z
UID:10002770-1777314600-1777320000@alleanzacattolica.org
SUMMARY:Brindisi - ...PERSEGUITERANNO ANCHE VOI (Gv 15\,20)
DESCRIPTION:…PERSEGUITERANNO ANCHE VOI (Gv 15\,20) \nDAL MARTIRIO DEL POPOLO ALBANESE NEL XX SECOLO AL MARTIRIO DEI CRISTIANI NEL MONDO \nLunedì 27 aprile 2026 – ore 18:30 \ncelebrazione della Santa Messa in memoria dei Beati Martiri del comunismo \nofficierà: Mons. Angelo Massafra ofm\ngià Arcivescovo di Scutari-Pult (Albania) \nseguirà la proiezione del documentario: \nALBANIA\, CALVARIO DI UN POPOLO \nIntroduce: Prof. Raffaele Danese\nintervento: Mons. Angelo Massafra ofm \nEx Casa Suore di Ivrea – Via Appia\, N° 32 – Brindisi
URL:https://alleanzacattolica.org/evento/brindisi-perseguiteranno-anche-voi-gv-1520/
LOCATION:“Casa Madre Antonia” ex Istituto delle Suore di Ivrea – Brindisi\, Via Appia\, 32 (subito dopo il sottopasso)\, Brindisi\, Italia
CATEGORIES:Messa
ATTACH;FMTTYPE=image/jpeg:https://alleanzacattolica.org/wp-content/uploads/2026/04/Ac26-Brindisi-Albania.jpg
END:VEVENT
END:VCALENDAR