BEGIN:VCALENDAR
VERSION:2.0
PRODID:-//Alleanza Cattolica - ECPv6.15.20//NONSGML v1.0//EN
CALSCALE:GREGORIAN
METHOD:PUBLISH
X-ORIGINAL-URL:https://alleanzacattolica.org
X-WR-CALDESC:Eventi per Alleanza Cattolica
REFRESH-INTERVAL;VALUE=DURATION:PT1H
X-Robots-Tag:noindex
X-PUBLISHED-TTL:PT1H
BEGIN:VTIMEZONE
TZID:Europe/Rome
BEGIN:DAYLIGHT
TZOFFSETFROM:+0100
TZOFFSETTO:+0200
TZNAME:CEST
DTSTART:20250330T010000
END:DAYLIGHT
BEGIN:STANDARD
TZOFFSETFROM:+0200
TZOFFSETTO:+0100
TZNAME:CET
DTSTART:20251026T010000
END:STANDARD
BEGIN:DAYLIGHT
TZOFFSETFROM:+0100
TZOFFSETTO:+0200
TZNAME:CEST
DTSTART:20260329T010000
END:DAYLIGHT
BEGIN:STANDARD
TZOFFSETFROM:+0200
TZOFFSETTO:+0100
TZNAME:CET
DTSTART:20261025T010000
END:STANDARD
BEGIN:DAYLIGHT
TZOFFSETFROM:+0100
TZOFFSETTO:+0200
TZNAME:CEST
DTSTART:20270328T010000
END:DAYLIGHT
BEGIN:STANDARD
TZOFFSETFROM:+0200
TZOFFSETTO:+0100
TZNAME:CET
DTSTART:20271031T010000
END:STANDARD
END:VTIMEZONE
BEGIN:VEVENT
DTSTART;TZID=Europe/Rome:20260211T210000
DTEND;TZID=Europe/Rome:20260211T223000
DTSTAMP:20260424T020623
CREATED:20260205T223117Z
LAST-MODIFIED:20260205T223117Z
UID:10002752-1770843600-1770849000@alleanzacattolica.org
SUMMARY:Pisa: "S. Messa in suffragio di Giovanni Cantoni\, Marco Tangheroni\, Giulio Soldani e di tutti i militanti di Alleanza Cattolica defunti"
DESCRIPTION:Pisa\, 11 febbraio 2025\, ore 21\, \n \npresso la Chiesa di San Giuseppe \n \nin Piazza Giordano da Rivalto\, \n \npreceduta dalla recita del S. Rosario\, \n \nsarà celebrata la S. Messa in suffragio di Giovanni Cantoni \n \nfondatore di Alleanza Cattolica\, \n \ndel Prof Marco Tangheroni\, \n \nnel ventiduesimo anniversario della morte\, \n \ndel Prof. Giulio Soldani \n \ne di tutti i militanti di Alleanza Cattolica defunt
URL:https://alleanzacattolica.org/evento/pisa-s-messa-in-suffragio-di-giovanni-cantoni-marco-tangheroni-giulio-soldani-e-di-tutti-i-militanti-di-alleanza-cattolica-defunti/
LOCATION:Pisa\, Chiesa di San Giuseppe\, P.zza Giovanni da Rivalto\, Pisa\, Italy
CATEGORIES:Messa
ATTACH;FMTTYPE=image/jpeg:https://alleanzacattolica.org/wp-content/uploads/2026/02/Avviso-1_page-0001.jpg
END:VEVENT
END:VCALENDAR